Package: NCIgraph Version: 1.58.0 Command: /home/biocbuild/R/R/bin/R CMD INSTALL NCIgraph StartedAt: 2025-11-17 21:40:20 -0000 (Mon, 17 Nov 2025) EndedAt: 2025-11-17 21:40:30 -0000 (Mon, 17 Nov 2025) EllapsedTime: 9.5 seconds RetCode: 0 Status: OK