Package: NCIgraph Version: 1.58.0 Command: /home/biocbuild/R/R/bin/R CMD check --install=check:NCIgraph.install-out.txt --library=/home/biocbuild/R/R/site-library --no-vignettes --timings NCIgraph_1.58.0.tar.gz StartedAt: 2025-11-21 13:34:15 -0000 (Fri, 21 Nov 2025) EndedAt: 2025-11-21 13:35:29 -0000 (Fri, 21 Nov 2025) EllapsedTime: 74.1 seconds RetCode: 0 Status: OK CheckDir: NCIgraph.Rcheck Warnings: 0