Package: NCIgraph Version: 1.58.0 Command: /home/biocbuild/R/R/bin/R CMD build --keep-empty-dirs --no-resave-data NCIgraph StartedAt: 2025-11-21 04:23:05 -0000 (Fri, 21 Nov 2025) EndedAt: 2025-11-21 04:23:24 -0000 (Fri, 21 Nov 2025) EllapsedTime: 19.0 seconds RetCode: 0 Status: OK PackageFile: NCIgraph_1.58.0.tar.gz PackageFileSize: 197.9 KiB