Package: NBAMSeq Version: 1.25.0 Command: /home/biocbuild/R/R/bin/R CMD INSTALL NBAMSeq StartedAt: 2025-10-23 21:00:10 -0000 (Thu, 23 Oct 2025) EndedAt: 2025-10-23 21:00:51 -0000 (Thu, 23 Oct 2025) EllapsedTime: 41.4 seconds RetCode: 0 Status: OK