Package: NBAMSeq Version: 1.26.0 Command: /home/biocbuild/bbs-3.22-bioc/R/bin/R CMD INSTALL NBAMSeq StartedAt: 2025-11-09 15:36:50 -0500 (Sun, 09 Nov 2025) EndedAt: 2025-11-09 15:37:21 -0500 (Sun, 09 Nov 2025) EllapsedTime: 31.3 seconds RetCode: 0 Status: OK