Package: NBAMSeq Version: 1.26.0 Command: /home/biocbuild/bbs-3.22-bioc/R/bin/R CMD build --keep-empty-dirs --no-resave-data --md5 NBAMSeq StartedAt: 2025-11-09 19:05:23 -0500 (Sun, 09 Nov 2025) EndedAt: 2025-11-09 19:06:18 -0500 (Sun, 09 Nov 2025) EllapsedTime: 55.0 seconds RetCode: 0 Status: OK PackageFile: NBAMSeq_1.26.0.tar.gz PackageFileSize: 318.2 KiB