Package: NADfinder Version: 1.32.0 Command: /Library/Frameworks/R.framework/Resources/bin/R CMD check --install=check:NADfinder.install-out.txt --library=/Library/Frameworks/R.framework/Resources/library --no-vignettes --timings NADfinder_1.32.0.tar.gz StartedAt: 2025-10-15 05:41:35 -0400 (Wed, 15 Oct 2025) EndedAt: 2025-10-15 05:52:06 -0400 (Wed, 15 Oct 2025) EllapsedTime: 631.5 seconds RetCode: 0 Status: OK CheckDir: NADfinder.Rcheck Warnings: 0