Package: MungeSumstats Version: 1.16.0 Command: /Library/Frameworks/R.framework/Resources/bin/R CMD INSTALL MungeSumstats StartedAt: 2025-10-13 16:12:12 -0400 (Mon, 13 Oct 2025) EndedAt: 2025-10-13 16:13:40 -0400 (Mon, 13 Oct 2025) EllapsedTime: 88.5 seconds RetCode: 0 Status: OK