Package: MungeSumstats Version: 1.16.0 Command: /Library/Frameworks/R.framework/Resources/bin/R CMD build --keep-empty-dirs --no-resave-data MungeSumstats StartedAt: 2025-10-13 21:00:58 -0400 (Mon, 13 Oct 2025) EndedAt: 2025-10-13 21:04:15 -0400 (Mon, 13 Oct 2025) EllapsedTime: 196.5 seconds RetCode: 0 Status: OK PackageFile: MungeSumstats_1.16.0.tar.gz PackageFileSize: 2.368 MiB