Package: MungeSumstats Version: 1.16.0 Command: rm -rf MungeSumstats.buildbin-libdir && mkdir MungeSumstats.buildbin-libdir && /Users/biocbuild/BBS/utils/build-universal.sh MungeSumstats_1.16.0.tar.gz /Library/Frameworks/R.framework/Resources/bin/R MungeSumstats.buildbin-libdir StartedAt: 2025-10-14 14:13:41 -0400 (Tue, 14 Oct 2025) EndedAt: 2025-10-14 14:15:46 -0400 (Tue, 14 Oct 2025) EllapsedTime: 124.4 seconds RetCode: 0 Status: OK PackageFile: MungeSumstats_1.16.0.tgz PackageFileSize: 2.739 MiB