Package: MultimodalExperiment Version: 1.10.0 Command: /home/biocbuild/bbs-3.22-bioc/R/bin/R CMD check --install=check:MultimodalExperiment.install-out.txt --library=/home/biocbuild/bbs-3.22-bioc/R/site-library --timings MultimodalExperiment_1.10.0.tar.gz StartedAt: 2025-11-10 02:11:15 -0500 (Mon, 10 Nov 2025) EndedAt: 2025-11-10 02:14:26 -0500 (Mon, 10 Nov 2025) EllapsedTime: 191.2 seconds RetCode: 0 Status: OK CheckDir: MultimodalExperiment.Rcheck Warnings: 0