Package: MultiMed Version: 2.32.0 Command: /home/biocbuild/bbs-3.22-bioc/R/bin/R CMD INSTALL MultiMed StartedAt: 2025-11-09 15:01:46 -0500 (Sun, 09 Nov 2025) EndedAt: 2025-11-09 15:01:55 -0500 (Sun, 09 Nov 2025) EllapsedTime: 8.6 seconds RetCode: 0 Status: OK