Package: MultiMed Version: 2.32.0 Command: /Library/Frameworks/R.framework/Resources/bin/R CMD build --keep-empty-dirs --no-resave-data MultiMed StartedAt: 2025-11-03 17:58:55 -0500 (Mon, 03 Nov 2025) EndedAt: 2025-11-03 17:59:10 -0500 (Mon, 03 Nov 2025) EllapsedTime: 14.9 seconds RetCode: 0 Status: OK PackageFile: MultiMed_2.32.0.tar.gz PackageFileSize: 507.6 KiB