Package: MultiMed Version: 2.32.0 Command: /Library/Frameworks/R.framework/Resources/bin/R CMD build --keep-empty-dirs --no-resave-data MultiMed StartedAt: 2025-11-06 17:09:45 -0500 (Thu, 06 Nov 2025) EndedAt: 2025-11-06 17:09:50 -0500 (Thu, 06 Nov 2025) EllapsedTime: 5.1 seconds RetCode: 0 Status: OK PackageFile: MultiMed_2.32.0.tar.gz PackageFileSize: 508.4 KiB