Package: MultiMed Version: 2.32.0 Maintainer: Simina M. Boca MaintainerEmail: smb310 at georgetown.edu git_url: https://git.bioconductor.org/packages/MultiMed git_branch: RELEASE_3_22 git_last_commit: 5b10c46 git_last_commit_date: 2025-10-29 10:20:26 -0500 (Wed, 29 Oct 2025)