Package: Mulcom Version: 1.60.0 Command: /home/biocbuild/R/R/bin/R CMD check --install=check:Mulcom.install-out.txt --library=/home/biocbuild/R/R/site-library --no-vignettes --timings Mulcom_1.60.0.tar.gz StartedAt: 2025-11-11 12:16:12 -0000 (Tue, 11 Nov 2025) EndedAt: 2025-11-11 12:17:17 -0000 (Tue, 11 Nov 2025) EllapsedTime: 65.1 seconds RetCode: 0 Status: WARNINGS CheckDir: Mulcom.Rcheck Warnings: 1