Package: Mulcom Version: 1.59.0 Command: F:\biocbuild\bbs-3.22-bioc\R\bin\R.exe CMD INSTALL Mulcom StartedAt: 2025-08-14 15:40:56 -0400 (Thu, 14 Aug 2025) EndedAt: 2025-08-14 15:41:17 -0400 (Thu, 14 Aug 2025) EllapsedTime: 21.4 seconds RetCode: 0 Status: OK