Package: Mulcom Version: 1.59.0 Command: F:\biocbuild\bbs-3.22-bioc\R\bin\R.exe CMD check --no-multiarch --install=check:Mulcom.install-out.txt --library=F:\biocbuild\bbs-3.22-bioc\R\library --no-vignettes --timings Mulcom_1.59.0.tar.gz StartedAt: 2025-08-15 05:39:26 -0400 (Fri, 15 Aug 2025) EndedAt: 2025-08-15 05:41:03 -0400 (Fri, 15 Aug 2025) EllapsedTime: 97.3 seconds RetCode: 0 Status: WARNINGS CheckDir: Mulcom.Rcheck Warnings: 1