Package: Mulcom Version: 1.60.0 Command: /home/biocbuild/bbs-3.22-bioc/R/bin/R CMD build --keep-empty-dirs --no-resave-data --md5 Mulcom StartedAt: 2025-11-06 18:56:23 -0500 (Thu, 06 Nov 2025) EndedAt: 2025-11-06 18:56:24 -0500 (Thu, 06 Nov 2025) EllapsedTime: 1.0 seconds RetCode: 0 Status: OK PackageFile: Mulcom_1.60.0.tar.gz PackageFileSize: 1.097 MiB