Package: MuData Version: 1.12.0 Command: /Library/Frameworks/R.framework/Resources/bin/R CMD check --install=check:MuData.install-out.txt --library=/Library/Frameworks/R.framework/Resources/library --no-vignettes --timings MuData_1.12.0.tar.gz StartedAt: 2025-10-15 05:20:31 -0400 (Wed, 15 Oct 2025) EndedAt: 2025-10-15 05:24:04 -0400 (Wed, 15 Oct 2025) EllapsedTime: 212.2 seconds RetCode: 0 Status: OK CheckDir: MuData.Rcheck Warnings: 0