Package: MsQuality Version: 1.9.2 Command: chmod a+r MsQuality -R && F:\biocbuild\bbs-3.22-bioc\R\bin\R.exe CMD build --keep-empty-dirs --no-resave-data MsQuality StartedAt: 2025-08-14 21:44:30 -0400 (Thu, 14 Aug 2025) EndedAt: 2025-08-14 21:47:15 -0400 (Thu, 14 Aug 2025) EllapsedTime: 165.4 seconds RetCode: 0 Status: OK PackageFile: MsQuality_1.9.2.tar.gz PackageFileSize: 4.244 MiB