Package: MsExperiment Version: 1.11.1 Command: chmod a+r MsExperiment -R && F:\biocbuild\bbs-3.22-bioc\R\bin\R.exe CMD build --keep-empty-dirs --no-resave-data MsExperiment StartedAt: 2025-08-14 21:42:14 -0400 (Thu, 14 Aug 2025) EndedAt: 2025-08-14 21:44:41 -0400 (Thu, 14 Aug 2025) EllapsedTime: 147.0 seconds RetCode: 0 Status: OK PackageFile: MsExperiment_1.11.1.tar.gz PackageFileSize: 1.882 MiB