Package: MsExperiment Version: 1.12.0 Command: /Library/Frameworks/R.framework/Resources/bin/R CMD check --install=check:MsExperiment.install-out.txt --library=/Library/Frameworks/R.framework/Resources/library --no-vignettes --timings MsExperiment_1.12.0.tar.gz StartedAt: 2025-11-03 22:43:38 -0500 (Mon, 03 Nov 2025) EndedAt: 2025-11-03 22:47:53 -0500 (Mon, 03 Nov 2025) EllapsedTime: 255.5 seconds RetCode: 0 Status: OK CheckDir: MsExperiment.Rcheck Warnings: 0