Package: MsExperiment Version: 1.12.0 Command: /Library/Frameworks/R.framework/Resources/bin/R CMD check --install=check:MsExperiment.install-out.txt --library=/Library/Frameworks/R.framework/Resources/library --no-vignettes --timings MsExperiment_1.12.0.tar.gz StartedAt: 2025-11-09 20:58:18 -0500 (Sun, 09 Nov 2025) EndedAt: 2025-11-09 20:59:53 -0500 (Sun, 09 Nov 2025) EllapsedTime: 95.2 seconds RetCode: 0 Status: OK CheckDir: MsExperiment.Rcheck Warnings: 0