Package: MsExperiment Version: 1.12.0 Maintainer: Laurent Gatto MaintainerEmail: laurent.gatto at uclouvain.be git_url: https://git.bioconductor.org/packages/MsExperiment git_branch: RELEASE_3_22 git_last_commit: 85369cf git_last_commit_date: 2025-10-29 11:18:48 -0500 (Wed, 29 Oct 2025)