Package: MsDataHub Version: 1.8.0 Command: E:\biocbuild\bbs-3.21-bioc\R\bin\R.exe CMD INSTALL MsDataHub StartedAt: 2025-08-14 16:08:11 -0400 (Thu, 14 Aug 2025) EndedAt: 2025-08-14 16:08:31 -0400 (Thu, 14 Aug 2025) EllapsedTime: 19.8 seconds RetCode: 0 Status: OK