Package: MsDataHub Version: 1.8.0 Command: E:\biocbuild\bbs-3.21-bioc\R\bin\R.exe CMD check --no-multiarch --install=check:MsDataHub.install-out.txt --library=E:\biocbuild\bbs-3.21-bioc\R\library --no-vignettes --timings MsDataHub_1.8.0.tar.gz StartedAt: 2025-08-15 04:31:35 -0400 (Fri, 15 Aug 2025) EndedAt: 2025-08-15 04:33:48 -0400 (Fri, 15 Aug 2025) EllapsedTime: 133.1 seconds RetCode: 0 Status: OK CheckDir: MsDataHub.Rcheck Warnings: 0