Package: MsDataHub Version: 1.8.0 Command: chmod a+r MsDataHub -R && E:\biocbuild\bbs-3.21-bioc\R\bin\R.exe CMD build --keep-empty-dirs --no-resave-data MsDataHub StartedAt: 2025-08-14 20:38:19 -0400 (Thu, 14 Aug 2025) EndedAt: 2025-08-14 20:52:42 -0400 (Thu, 14 Aug 2025) EllapsedTime: 862.9 seconds RetCode: 0 Status: OK PackageFile: MsDataHub_1.8.0.tar.gz PackageFileSize: 372.7 KiB