Package: MsDataHub Version: 1.10.0 Command: /home/biocbuild/bbs-3.22-bioc/R/bin/R CMD INSTALL MsDataHub StartedAt: 2025-11-06 15:26:51 -0500 (Thu, 06 Nov 2025) EndedAt: 2025-11-06 15:27:04 -0500 (Thu, 06 Nov 2025) EllapsedTime: 13.7 seconds RetCode: 0 Status: OK