Package: MsDataHub Version: 1.10.0 Command: /home/biocbuild/bbs-3.22-bioc/R/bin/R CMD build --keep-empty-dirs --no-resave-data --md5 MsDataHub StartedAt: 2025-11-06 18:52:41 -0500 (Thu, 06 Nov 2025) EndedAt: 2025-11-06 18:56:03 -0500 (Thu, 06 Nov 2025) EllapsedTime: 202.2 seconds RetCode: 0 Status: OK PackageFile: MsDataHub_1.10.0.tar.gz PackageFileSize: 373.2 KiB