Package: MsBackendRawFileReader Version: 1.16.0 Command: /Library/Frameworks/R.framework/Resources/bin/R CMD build --keep-empty-dirs --no-resave-data MsBackendRawFileReader StartedAt: 2025-11-03 17:54:40 -0500 (Mon, 03 Nov 2025) EndedAt: 2025-11-03 17:57:21 -0500 (Mon, 03 Nov 2025) EllapsedTime: 161.2 seconds RetCode: 0 Status: OK PackageFile: MsBackendRawFileReader_1.16.0.tar.gz PackageFileSize: 1.469 MiB