Package: MsBackendRawFileReader Version: 1.16.0 Command: /Library/Frameworks/R.framework/Resources/bin/R CMD INSTALL MsBackendRawFileReader StartedAt: 2025-11-09 15:07:46 -0500 (Sun, 09 Nov 2025) EndedAt: 2025-11-09 15:07:51 -0500 (Sun, 09 Nov 2025) EllapsedTime: 4.3 seconds RetCode: 0 Status: OK