Package: MsBackendRawFileReader Version: 1.16.0 Command: /Library/Frameworks/R.framework/Resources/bin/R CMD check --install=check:MsBackendRawFileReader.install-out.txt --library=/Library/Frameworks/R.framework/Resources/library --no-vignettes --timings MsBackendRawFileReader_1.16.0.tar.gz StartedAt: 2025-11-09 20:57:58 -0500 (Sun, 09 Nov 2025) EndedAt: 2025-11-09 21:00:17 -0500 (Sun, 09 Nov 2025) EllapsedTime: 139.8 seconds RetCode: 0 Status: OK CheckDir: MsBackendRawFileReader.Rcheck Warnings: 0