Package: MsBackendRawFileReader Version: 1.16.0 Command: rm -rf MsBackendRawFileReader.buildbin-libdir && mkdir MsBackendRawFileReader.buildbin-libdir && /Users/biocbuild/BBS/utils/build-universal.sh MsBackendRawFileReader_1.16.0.tar.gz /Library/Frameworks/R.framework/Resources/bin/R MsBackendRawFileReader.buildbin-libdir StartedAt: 2025-11-09 23:16:22 -0500 (Sun, 09 Nov 2025) EndedAt: 2025-11-09 23:16:28 -0500 (Sun, 09 Nov 2025) EllapsedTime: 5.1 seconds RetCode: 0 Status: OK PackageFile: MsBackendRawFileReader_1.16.0.tgz PackageFileSize: 1.254 MiB