Package: MsBackendMetaboLights Version: 1.4.2 Command: /home/biocbuild/bbs-3.22-bioc/R/bin/R CMD check --install=check:MsBackendMetaboLights.install-out.txt --library=/home/biocbuild/bbs-3.22-bioc/R/site-library --timings MsBackendMetaboLights_1.4.2.tar.gz StartedAt: 2025-11-10 02:00:45 -0500 (Mon, 10 Nov 2025) EndedAt: 2025-11-10 02:14:35 -0500 (Mon, 10 Nov 2025) EllapsedTime: 829.8 seconds RetCode: 0 Status: OK CheckDir: MsBackendMetaboLights.Rcheck Warnings: 0