Package: MsBackendMetaboLights Version: 1.4.0 Command: rm -rf MsBackendMetaboLights.buildbin-libdir && mkdir MsBackendMetaboLights.buildbin-libdir && /Users/biocbuild/BBS/utils/build-universal.sh MsBackendMetaboLights_1.4.0.tar.gz /Library/Frameworks/R.framework/Resources/bin/R MsBackendMetaboLights.buildbin-libdir StartedAt: 2025-11-04 01:51:31 -0500 (Tue, 04 Nov 2025) EndedAt: 2025-11-04 01:51:52 -0500 (Tue, 04 Nov 2025) EllapsedTime: 20.8 seconds RetCode: 0 Status: OK PackageFile: MsBackendMetaboLights_1.4.0.tgz PackageFileSize: 347.7 KiB