Package: MsBackendMetaboLights Version: 1.4.2 Command: /Library/Frameworks/R.framework/Resources/bin/R CMD build --keep-empty-dirs --no-resave-data MsBackendMetaboLights StartedAt: 2025-11-09 17:07:42 -0500 (Sun, 09 Nov 2025) EndedAt: 2025-11-09 17:08:23 -0500 (Sun, 09 Nov 2025) EllapsedTime: 41.5 seconds RetCode: 0 Status: OK PackageFile: MsBackendMetaboLights_1.4.2.tar.gz PackageFileSize: 310.9 KiB