Package: MsBackendMetaboLights Version: 1.4.2 Command: rm -rf MsBackendMetaboLights.buildbin-libdir && mkdir MsBackendMetaboLights.buildbin-libdir && /Users/biocbuild/BBS/utils/build-universal.sh MsBackendMetaboLights_1.4.2.tar.gz /Library/Frameworks/R.framework/Resources/bin/R MsBackendMetaboLights.buildbin-libdir StartedAt: 2025-11-09 23:16:16 -0500 (Sun, 09 Nov 2025) EndedAt: 2025-11-09 23:16:23 -0500 (Sun, 09 Nov 2025) EllapsedTime: 6.1 seconds RetCode: 0 Status: OK PackageFile: MsBackendMetaboLights_1.4.2.tgz PackageFileSize: 351.5 KiB