Package: MotifPeeker Version: 1.0.0 Command: /Library/Frameworks/R.framework/Resources/bin/R CMD INSTALL MotifPeeker StartedAt: 2025-10-13 15:51:55 -0400 (Mon, 13 Oct 2025) EndedAt: 2025-10-13 15:53:20 -0400 (Mon, 13 Oct 2025) EllapsedTime: 85.2 seconds RetCode: 0 Status: OK