Package: MotifPeeker Version: 1.0.0 Command: rm -rf MotifPeeker.buildbin-libdir && mkdir MotifPeeker.buildbin-libdir && /Users/biocbuild/BBS/utils/build-universal.sh MotifPeeker_1.0.0.tar.gz /Library/Frameworks/R.framework/Resources/bin/R MotifPeeker.buildbin-libdir StartedAt: 2025-10-14 14:08:42 -0400 (Tue, 14 Oct 2025) EndedAt: 2025-10-14 14:11:00 -0400 (Tue, 14 Oct 2025) EllapsedTime: 138.2 seconds RetCode: 0 Status: OK PackageFile: MotifPeeker_1.0.0.tgz PackageFileSize: 3.502 MiB