Package: MotifPeeker Version: 1.0.0 Command: /Library/Frameworks/R.framework/Resources/bin/R CMD check --install=check:MotifPeeker.install-out.txt --library=/Library/Frameworks/R.framework/Resources/library --no-vignettes --timings MotifPeeker_1.0.0.tar.gz StartedAt: 2025-10-15 04:46:40 -0400 (Wed, 15 Oct 2025) EndedAt: 2025-10-15 04:52:28 -0400 (Wed, 15 Oct 2025) EllapsedTime: 348.0 seconds RetCode: 0 Status: OK CheckDir: MotifPeeker.Rcheck Warnings: 0