Package: MotifDb Version: 1.50.0 Command: E:\biocbuild\bbs-3.21-bioc\R\bin\R.exe CMD check --no-multiarch --install=check:MotifDb.install-out.txt --library=E:\biocbuild\bbs-3.21-bioc\R\library --no-vignettes --timings MotifDb_1.50.0.tar.gz StartedAt: 2025-08-15 04:24:47 -0400 (Fri, 15 Aug 2025) EndedAt: 2025-08-15 04:31:54 -0400 (Fri, 15 Aug 2025) EllapsedTime: 427.0 seconds RetCode: 0 Status: WARNINGS CheckDir: MotifDb.Rcheck Warnings: 2