Package: MotifDb Version: 1.50.0 Command: rm -rf MotifDb.buildbin-libdir && mkdir MotifDb.buildbin-libdir && E:\biocbuild\bbs-3.21-bioc\R\bin\R.exe CMD INSTALL --build --library=MotifDb.buildbin-libdir MotifDb_1.50.0.tar.gz StartedAt: 2025-08-15 09:45:29 -0400 (Fri, 15 Aug 2025) EndedAt: 2025-08-15 09:46:27 -0400 (Fri, 15 Aug 2025) EllapsedTime: 57.7 seconds RetCode: 0 Status: OK PackageFile: MotifDb_1.50.0.zip PackageFileSize: 4.476 MiB