Package: MotifDb Version: 1.50.0 Command: /home/biocbuild/bbs-3.21-bioc/R/bin/R CMD check --install=check:MotifDb.install-out.txt --library=/home/biocbuild/bbs-3.21-bioc/R/site-library --timings MotifDb_1.50.0.tar.gz StartedAt: 2025-10-16 01:17:47 -0400 (Thu, 16 Oct 2025) EndedAt: 2025-10-16 01:23:52 -0400 (Thu, 16 Oct 2025) EllapsedTime: 364.4 seconds RetCode: 0 Status: WARNINGS CheckDir: MotifDb.Rcheck Warnings: 2