Package: MotifDb Version: 1.50.0 Command: /home/biocbuild/bbs-3.21-bioc/R/bin/R CMD build --keep-empty-dirs --no-resave-data MotifDb StartedAt: 2025-10-15 18:39:54 -0400 (Wed, 15 Oct 2025) EndedAt: 2025-10-15 18:40:54 -0400 (Wed, 15 Oct 2025) EllapsedTime: 60.0 seconds RetCode: 0 Status: OK PackageFile: MotifDb_1.50.0.tar.gz PackageFileSize: 4.179 MiB