Package: MoonlightR Version: 1.35.0 Command: /home/biocbuild/R/R/bin/R CMD INSTALL MoonlightR StartedAt: 2025-10-23 21:15:39 -0000 (Thu, 23 Oct 2025) EndedAt: 2025-10-23 21:16:48 -0000 (Thu, 23 Oct 2025) EllapsedTime: 69.3 seconds RetCode: 0 Status: OK