Package: MoleculeExperiment Version: 1.9.0 Command: /home/biocbuild/R/R/bin/R CMD INSTALL MoleculeExperiment StartedAt: 2025-10-23 20:43:40 -0000 (Thu, 23 Oct 2025) EndedAt: 2025-10-23 20:44:36 -0000 (Thu, 23 Oct 2025) EllapsedTime: 56.1 seconds RetCode: 0 Status: OK