Package: MoleculeExperiment Version: 1.9.0 Command: F:\biocbuild\bbs-3.22-bioc\R\bin\R.exe CMD check --no-multiarch --install=check:MoleculeExperiment.install-out.txt --library=F:\biocbuild\bbs-3.22-bioc\R\library --no-vignettes --timings MoleculeExperiment_1.9.0.tar.gz StartedAt: 2025-08-15 05:22:18 -0400 (Fri, 15 Aug 2025) EndedAt: 2025-08-15 05:29:05 -0400 (Fri, 15 Aug 2025) EllapsedTime: 406.4 seconds RetCode: 0 Status: OK CheckDir: MoleculeExperiment.Rcheck Warnings: 0