Package: ModCon Version: 1.18.0 Command: /home/biocbuild/R/R/bin/R CMD check --install=check:ModCon.install-out.txt --library=/home/biocbuild/R/R/site-library --no-vignettes --timings ModCon_1.18.0.tar.gz StartedAt: 2025-11-18 12:04:51 -0000 (Tue, 18 Nov 2025) EndedAt: 2025-11-18 12:10:59 -0000 (Tue, 18 Nov 2025) EllapsedTime: 368.3 seconds RetCode: 0 Status: OK CheckDir: ModCon.Rcheck Warnings: 0