Package: ModCon Version: 1.18.0 Command: /home/biocbuild/bbs-3.22-bioc/R/bin/R CMD check --install=check:ModCon.install-out.txt --library=/home/biocbuild/bbs-3.22-bioc/R/site-library --timings ModCon_1.18.0.tar.gz StartedAt: 2025-11-18 06:08:53 -0500 (Tue, 18 Nov 2025) EndedAt: 2025-11-18 06:14:35 -0500 (Tue, 18 Nov 2025) EllapsedTime: 342.3 seconds RetCode: 0 Status: OK CheckDir: ModCon.Rcheck Warnings: 0